BEGIN:VCALENDAR
VERSION:2.0
PRODID:-//eventon.com NONSGML v1.0//EN
BEGIN:VEVENT
UID:69e609899e437
DTSTAMP:20260420T121001
DTSTART:20241001T110000Z
DTEND:20241002T105900Z
TZID:Pacific/Midway
LOCATION:Escola Básica Dr. Horácio Bento de Gouveia 
SUMMARY:Dia Mundial da Música
DESCRIPTION: No dia 1 de outubro\,  “Dia Mundial da Música”\,  às 11h30\,  os professores José Lino Pestana e Margarida Ornelas farão uma apresentação na escadaria do Polivalente\,  com o objetivo de assinalar esta data. Esta iniciativa tem como objetivo destacar a importância e o valor da música\,  promovendo-a como uma arte[..]
URL:https://hbg.pt/Eventos/dia-mundial-da-musica/
END:VEVENT
END:VCALENDAR