BEGIN:VCALENDAR
VERSION:2.0
PRODID:-//eventon.com NONSGML v1.0//EN
BEGIN:VEVENT
UID:69e60a0504220
DTSTAMP:20260420T121205
DTSTART:20241009T010000Z
DTEND:20241009T040000Z
TZID:Pacific/Midway
LOCATION:Montado do Pereiro 
SUMMARY:Corrida de Aventura
DESCRIPTION: No próximo dia 8 de outubro irá acontecer a Corrida de Aventura dinamizada pela Direção de Serviços do Desporto Escolar.&nbsp;&nbsp;
URL:https://hbg.pt/Eventos/corrida-de-aventura/
END:VEVENT
END:VCALENDAR