BEGIN:VCALENDAR
VERSION:2.0
PRODID:-//eventon.com NONSGML v1.0//EN
BEGIN:VEVENT
UID:69e60a0941058
DTSTAMP:20260420T121209
DTSTART:20241115T200000Z
DTEND:20241116T000000Z
TZID:Pacific/Midway
LOCATION:Pista de Câmara de Lobos 
SUMMARY:MegaSprinter 2024
DESCRIPTION: MegaSprinter 2024 Fase Regional &#8211; Pista de Câmara de Lobos&nbsp;
URL:https://hbg.pt/Eventos/megasprinter-2024/
END:VEVENT
END:VCALENDAR