BEGIN:VCALENDAR
VERSION:2.0
PRODID:-//eventon.com NONSGML v1.0//EN
BEGIN:VEVENT
UID:69e60a0a663e5
DTSTAMP:20260420T121210
DTSTART:20241104T233000Z
DTEND:20241105T011500Z
TZID:Pacific/Midway
LOCATION:Instalações Desportivas HBG 
SUMMARY:Prova dos Nove - 9.º ano
DESCRIPTION: No próximo dia 4 de Novembro realiza se a Prova dos Nove do 9.º ano nas instalações desportivas da escola.
URL:https://hbg.pt/Eventos/prova-dos-nove-9-ano/
END:VEVENT
END:VCALENDAR