BEGIN:VCALENDAR
VERSION:2.0
PRODID:-//eventon.com NONSGML v1.0//EN
BEGIN:VEVENT
UID:69e609d1a56da
DTSTAMP:20260420T121113
DTSTART:20241007T000000Z
DTEND:20241031T000000Z
TZID:Etc/Greenwich
LOCATION:PBX - Sra Telefonista Escola HBG
SUMMARY:Inscrições de famílias HBG (necessitadas)\,  no Clube Viver a Vida\,  CVV (através do DT´s)
DESCRIPTION: Realização de inscrições de Famílias HBG (com necessidades) no Clube Viver a Vida. As inscrições são realizadas através do Diretor de turma. Documento de inscrição\,  disponível no PBX &#8211; 2º andar.&nbsp;
URL:https://hbg.pt/Eventos/inscricoes-de-familias-hbg-necessitadas-no-clube-viver-a-vida-cvv-atraves-do-dts/
END:VEVENT
END:VCALENDAR