BEGIN:VCALENDAR
VERSION:2.0
PRODID:-//eventon.com NONSGML v1.0//EN
BEGIN:VEVENT
UID:69e5e368882d6
DTSTAMP:20260420T092720
DTSTART:20241010T193000Z
DTEND:20241012T040000Z
TZID:Pacific/Midway
LOCATION:
SUMMARY:I CONVENÇÃO COMPORTAMENTOS ADITIVOS e DEPENDÊNCIAS  DAS REGIÕES DO ATLÂNTICO
DESCRIPTION: Dias 10 a 11 de Outubro de 2024 * Local &#8211; Centro Cultural do Funchal Participação da escola HBG: Dia 10 de outubro pelas 17:30H – Marcha pela Saúde Mental (concentração junto ao Parque St. Catarina – paragem de autocarros &#8211; pelas 17:30H) Dia 11 de outubro após as 14:30H –[..]
URL:https://hbg.pt/Eventos/i-convencao-comportamentos-aditivos-e-dependencias-das-regioes-do-atlantico-dias-10-a-11-de-outubro-de-2024-local-centro-cultural-do-funchal/
END:VEVENT
END:VCALENDAR