BEGIN:VCALENDAR
VERSION:2.0
PRODID:-//eventon.com NONSGML v1.0//EN
BEGIN:VEVENT
UID:69e5e36914d1c
DTSTAMP:20260420T092721
DTSTART:20241018T200000Z
DTEND:20241019T044500Z
TZID:Pacific/Midway
LOCATION:
SUMMARY:Feira da Apresentação dos Clubes e Projetos HBG
DESCRIPTION:   Após a apresentação do Catálogo de Oferta Extracurricular na página da nossa escola\,  ocorrerá durante o dia 18 de outubro (sexta-feira) a Feira de Apresentação dos Clubes e Projetos da HBG\,  uma amostra das iniciativas existentes para miúdos e graúdos. Localização     HBG &#8211; Piso 1 (exterior)  
URL:https://hbg.pt/Eventos/feira-da-apresentacao-dos-clubes-e-projetos-hbg/
END:VEVENT
END:VCALENDAR