BEGIN:VCALENDAR
VERSION:2.0
PRODID:-//eventon.com NONSGML v1.0//EN
BEGIN:VEVENT
UID:69e60913e6873
DTSTAMP:20260420T120803
DTSTART:20241018T193000Z
DTEND:20241018T203000Z
TZID:Etc/Greenwich
LOCATION:
SUMMARY:XVII CORRIDA DAS MULHERES (andando\,  correndo\,  passeando)|LPCC
DESCRIPTION: Concentração pelas 19H30 junto à Sé &#8211; Funchal. Leva a tua T´Shirt ROSA
URL:https://hbg.pt/Eventos/xvii-corrida-das-mulheres-andando-correndo-passeandolpcc/
END:VEVENT
END:VCALENDAR