BEGIN:VCALENDAR
VERSION:2.0
PRODID:-//eventon.com NONSGML v1.0//EN
BEGIN:VEVENT
UID:69e608a10e8e7
DTSTAMP:20260420T120609
DTSTART:20241017T090000Z
DTEND:20241018T180000Z
TZID:Etc/Greenwich
LOCATION:
SUMMARY:Barraquinha | CVV -  Angariação de fundos - LPCC - OUTUBRO ROSA
DESCRIPTION: Barraquinha | CVV -  Angariação de fundos - LPCC - OUTUBRO ROSA
URL:https://hbg.pt/Eventos/barraquinha-cvv-angariacao-de-fundos-lpcc-outubro-rosa/
END:VEVENT
END:VCALENDAR