BEGIN:VCALENDAR
VERSION:2.0
PRODID:-//eventon.com NONSGML v1.0//EN
BEGIN:VEVENT
UID:69e608a2ce264
DTSTAMP:20260420T120610
DTSTART:20241104T110000Z
DTEND:20241105T105900Z
TZID:Pacific/Midway
LOCATION:Pista de orientação HBG 
SUMMARY:Prova de orientação rodoviária - 9.º ano
DESCRIPTION: Atividade inserida no Plano Regional de Educação Rodoviária
URL:https://hbg.pt/Eventos/prova-de-orientacao-rodoviaria-9o-ano/
END:VEVENT
END:VCALENDAR