BEGIN:VCALENDAR
VERSION:2.0
PRODID:-//eventon.com NONSGML v1.0//EN
BEGIN:VEVENT
UID:69e618327456d
DTSTAMP:20260420T131234
DTSTART:20241105T110500Z
DTEND:20241105T164000Z
TZID:Etc/Greenwich
LOCATION:Escola HBG Estrada da liberdade\,  1\,  Funchal
SUMMARY:A Terra Treme!
DESCRIPTION: No próximo dia 05 de novembro a Autoridade Nacional de Emergência e Proteção Civil organizará o exercício A TERRA TREME\,  que pretende alertar e sensibilizar a população sobre como agir antes\,  durante e depois da ocorrência de um sismo: https://www.aterratreme.pt/ Os 3 gestos BAIXAR\,  PROTEGER\,  AGUARDAR são a melhor resposta[..]
URL:https://hbg.pt/Eventos/a-terra-treme/
END:VEVENT
END:VCALENDAR