BEGIN:VCALENDAR
VERSION:2.0
PRODID:-//eventon.com NONSGML v1.0//EN
BEGIN:VEVENT
UID:69e6098deb208
DTSTAMP:20260420T121005
DTSTART:20241024T110000Z
DTEND:20241031T190000Z
TZID:Etc/Greenwich
LOCATION:
SUMMARY:PEDITÓRIO DA LIGA PORTUGUESA CONTRA O CANCRO
DESCRIPTION: PEDITÓRIO DA LIGA PORTUGUESA CONTRA O CANCRO
URL:https://hbg.pt/Eventos/peditorio-da-liga-portuguesa-contra-o-cancro/
END:VEVENT
END:VCALENDAR