BEGIN:VCALENDAR
VERSION:2.0
PRODID:-//eventon.com NONSGML v1.0//EN
BEGIN:VEVENT
UID:69e608b5e49e9
DTSTAMP:20260420T120629
DTSTART:20241106T084500Z
DTEND:20241106T123000Z
TZID:Etc/Greenwich
LOCATION:
SUMMARY:AÇÃO DE SENSBILIZAÇÃO: EDUCAÇÃO PARA O BEM ESTAR E VIDA SAUDÁVEL - CASA SÃO JOÃO DE DEUS - TURMAS 9º10 E 9º11
DESCRIPTION: OBJETIVOS: Escutar testemunhos\,  na primeira pessoa\,  sobre o consumo e malefícios associados ao álcool; Incutir hábitos de reflexão sobre atitudes e comportamentos do adolescente; Desmistificar crenças e preconceitos sobre a doença mental e consumo de drogas; Prevenir comportamentos aditivos.
URL:https://hbg.pt/Eventos/acao-de-sensbilizacao-educacao-para-o-bem-estar-e-vida-saudavel-casa-sao-joao-de-deus-turmas-9o10-e-9o11/
END:VEVENT
END:VCALENDAR