BEGIN:VCALENDAR
VERSION:2.0
PRODID:-//eventon.com NONSGML v1.0//EN
BEGIN:VEVENT
UID:69e6086f19202
DTSTAMP:20260420T120519
DTSTART:20241125T000000Z
DTEND:20241129T235900Z
TZID:Etc/Greenwich
LOCATION:Piso 1 - Edifício Escola Dr. Horácio Bento de Gouveia 
SUMMARY:Feira dos Minerais e Fósseis
DESCRIPTION: Feira dos Minerais e Fósseis
URL:https://hbg.pt/Eventos/feira-dos-minerais-e-fosseis/
END:VEVENT
END:VCALENDAR