BEGIN:VCALENDAR
VERSION:2.0
PRODID:-//eventon.com NONSGML v1.0//EN
BEGIN:VEVENT
UID:69e5e36d52bd3
DTSTAMP:20260420T092725
DTSTART:20241104T000000Z
DTEND:20241108T235900Z
TZID:Etc/Greenwich
LOCATION:Escola Básica Dr. Horácio Bento de Gouveia 
SUMMARY:Explorando o Mundo da Sétima Arte na HBG
DESCRIPTION: Na primeira semana de novembro\,  a Escola Horácio Bento de Gouveia celebra o Dia Mundial do Cinema com uma programação especial dirigida aos alunos do 2.º Ciclo. Esta comemoração\,  realizada no âmbito das aulas de Português em articulação com o grupo 200\,  visa destacar a relevância do cinema como uma[..]
URL:https://hbg.pt/Eventos/explorando-o-mundo-da-setima-arte-na-hbg/
END:VEVENT
END:VCALENDAR