BEGIN:VCALENDAR
VERSION:2.0
PRODID:-//eventon.com NONSGML v1.0//EN
BEGIN:VEVENT
UID:69e60989aea9d
DTSTAMP:20260420T121001
DTSTART:20241105T183000Z
DTEND:20241217T200000Z
TZID:Etc/Greenwich
LOCATION:Escola Básica Dr. Horácio Bento de Gouveia 
SUMMARY:Inscrições Coro HBG
DESCRIPTION: Estão a decorrer as inscrições para o Coro HBG. O objetivo é formar um coro para cantar na celebração de Natal\,  na “Missa do Parto.” Esta iniciativa oferece uma oportunidade única para todos os membros da comunidade educativa participarem ativamente nas atividades da escola\,  promovendo o espírito de união e[..]
URL:https://hbg.pt/Eventos/inscricoes-coro-hbg/
END:VEVENT
END:VCALENDAR