BEGIN:VCALENDAR
VERSION:2.0
PRODID:-//eventon.com NONSGML v1.0//EN
BEGIN:VEVENT
UID:69e60912d1eda
DTSTAMP:20260420T120802
DTSTART:20241030T050000Z
DTEND:20250531T070000Z
TZID:Pacific/Midway
LOCATION:
SUMMARY:Campanha " DÊ UMA TAMPA À INDIFERENÇA"
DESCRIPTION: O Clube Viver a Vida\,  em parceria com o ECOEscolas\,  Atividades Culturais e Oficina da Aprendizagem\,  dinamiza\,  entre os meses outubro de 2024 e maio de 2025\,  várias campanhas de recolhas de materiais\,  a saber: papel\,  tampas de plástico\,  rolhas de cortiça e radiografias.&nbsp;
URL:https://hbg.pt/Eventos/campanha-de-uma-tampa-a-indiferenca/
END:VEVENT
END:VCALENDAR