BEGIN:VCALENDAR
VERSION:2.0
PRODID:-//eventon.com NONSGML v1.0//EN
BEGIN:VEVENT
UID:69e608b5834e6
DTSTAMP:20260420T120629
DTSTART:20241031T200000Z
DTEND:20241116T043000Z
TZID:Pacific/Midway
LOCATION:
SUMMARY:Entrega do Projeto Docente (PD)
DESCRIPTION: Os Docentes entregam o Projeto Docente (PD) e o respetivo Requerimento nos Serviços Administrativos.
URL:https://hbg.pt/Eventos/entrega-do-projeto-docente-pd/
END:VEVENT
END:VCALENDAR