BEGIN:VCALENDAR
VERSION:2.0
PRODID:-//eventon.com NONSGML v1.0//EN
BEGIN:VEVENT
UID:69e6091386b02
DTSTAMP:20260420T120803
DTSTART:20241121T200000Z
DTEND:20241122T043000Z
TZID:Pacific/Midway
LOCATION:
SUMMARY:Análise PD (Avaliadores)
DESCRIPTION: Os AI: analisam os PD dos avaliados; preenchem o formulário “Apreciação doProjeto Docente”; dão a conhecer ao avaliado a apreciação do PD (que consta no formulário anterior) e solicitam a sua assinatura.
URL:https://hbg.pt/Eventos/analise-pd-avaliadores/
END:VEVENT
END:VCALENDAR