BEGIN:VCALENDAR
VERSION:2.0
PRODID:-//eventon.com NONSGML v1.0//EN
BEGIN:VEVENT
UID:69e609d1b8c1e
DTSTAMP:20260420T121113
DTSTART:20241129T200000Z
DTEND:20241130T043000Z
TZID:Pacific/Midway
LOCATION:
SUMMARY:Entrega dos e PD e dos formulários no Serviços Administrativos.  (Avaliadores)
DESCRIPTION: Os AI entregam os PD e os formulários “Apreciação do Projeto Docente” nos Serviços Administrativos.
URL:https://hbg.pt/Eventos/entrega-dos-e-pd-e-dos-formularios-no-servicos-administrativos-avaliadores/
END:VEVENT
END:VCALENDAR