BEGIN:VCALENDAR
VERSION:2.0
PRODID:-//eventon.com NONSGML v1.0//EN
BEGIN:VEVENT
UID:69e60945d04d5
DTSTAMP:20260420T120853
DTSTART:20241031T223000Z
DTEND:20241031T225500Z
TZID:Pacific/Midway
LOCATION:
SUMMARY:Let's celebrate Halloween
DESCRIPTION: Amanhã\,  dia 31 de Outubro\,  pelas 11h30\,  os professores de Inglês em cooperação com os professores de Educação Visual da HBG promovem uma atividade de &#8220;Halloween&#8221; na sala de Convívio dos alunos\,  expondo os trabalhos realizados a propósito desta tradição anglo-saxónica e promovendo uma dinâmica &#8220;assustadora&#8221;\,  espantando qualquer &#8220;má energia&#8221;[..]
URL:https://hbg.pt/Eventos/lets-celebrate-halloween-2/
END:VEVENT
END:VCALENDAR