BEGIN:VCALENDAR
VERSION:2.0
PRODID:-//eventon.com NONSGML v1.0//EN
BEGIN:VEVENT
UID:69e5e375ceaa2
DTSTAMP:20260420T092733
DTSTART:20241105T000000Z
DTEND:20241130T235900Z
TZID:Etc/Greenwich
LOCATION:
SUMMARY:Desafio - SouEco
DESCRIPTION: Temos um&nbsp; desafio para ti! O EcoHBG tenta\,  sempre\,  que a comunidade adquira&nbsp;&nbsp;uma consciência ambiental! Por isso\,  desenvolvemos uma fita com uma frase que apela à reflexão relativamente às atitudes que praticamos em relação ao ambiente e relançamos a garrafa “Sou Eco”. O desafio consiste em que todos os alunos[..]
URL:https://hbg.pt/Eventos/desafio-soueco/
END:VEVENT
END:VCALENDAR