BEGIN:VCALENDAR
VERSION:2.0
PRODID:-//eventon.com NONSGML v1.0//EN
BEGIN:VEVENT
UID:69e5e36a55327
DTSTAMP:20260420T092722
DTSTART:20241109T143000Z
DTEND:20241109T173000Z
TZID:Etc/Greenwich
LOCATION:
SUMMARY:Participação da HBG|CVV no Pão Por Deus da Associação Entrelaços|CSSJD
DESCRIPTION: Participação de vários alunos voluntários HBG no Pão por Deus da Associação Entrelaços (Associação de Familiares e Amigos dos Utentes da Casa de Saúde são João de Deus &#8211; Funchal)
URL:https://hbg.pt/Eventos/participacao-da-hbgcvv-no-pao-por-deus-da-associacao-entrelacoscssjd/
END:VEVENT
END:VCALENDAR