BEGIN:VCALENDAR
VERSION:2.0
PRODID:-//eventon.com NONSGML v1.0//EN
BEGIN:VEVENT
UID:69e60a93c0913
DTSTAMP:20260420T121427
DTSTART:20241128T193000Z
DTEND:20241129T000000Z
TZID:Pacific/Midway
LOCATION:RG3 
SUMMARY:Corta Mato escolar HBG
DESCRIPTION: No dia 28 de novembro realiza se o Corta mato escolar HBG no RG3. Prova constituída por corrida de velocidade\,  lançamento do vortex e do peso e Corta Mato.&nbsp;
URL:https://hbg.pt/Eventos/corta-mato-escolar-hbg-3/
END:VEVENT
END:VCALENDAR