BEGIN:VCALENDAR
VERSION:2.0
PRODID:-//eventon.com NONSGML v1.0//EN
BEGIN:VEVENT
UID:69e5f665200f9
DTSTAMP:20260420T104821
DTSTART:20241204T010000Z
DTEND:20241204T040000Z
TZID:Pacific/Midway
LOCATION:
SUMMARY:Torneio de Xadrez da H.B.G.
DESCRIPTION: &nbsp;Prepare-se para um emocionante Torneio de Xadrez onde as mentes mais perspicazes se encontrarão para uma tarde de estratégia e habilidade.&nbsp; O Torneio de Xadrez da H.B.G. é uma oportunidade imperdível para entusiastas do xadrez de todas as idades e níveis de habilidade. No dia 3 de dezembro pelas 14:00[..]
URL:https://hbg.pt/Eventos/torneio-de-xadrez-da-h-b-g/
END:VEVENT
END:VCALENDAR