BEGIN:VCALENDAR
VERSION:2.0
PRODID:-//eventon.com NONSGML v1.0//EN
BEGIN:VEVENT
UID:69e60a4c457fe
DTSTAMP:20260420T121316
DTSTART:20241122T000000Z
DTEND:20241122T235900Z
TZID:Etc/Greenwich
LOCATION:Escola Básica Dr. Horácio Bento de Gouveia 
SUMMARY:Dia de Santa Cecília
DESCRIPTION: No próximo dia 22 de novembro comemora-se o Dia de Santa Cecília &#8211; A Padroeira da Música Sacra e dos Músicos. Ao longo do dia\,  será exibido no primeiro andar\,  projeção da padroeira da Música Sacra e dos Músicos &#8211; Santa Cecília. Para visualizar também a agenda cultural para esta[..]
URL:https://hbg.pt/Eventos/dia-de-santa-cecilia/
END:VEVENT
END:VCALENDAR