BEGIN:VCALENDAR
VERSION:2.0
PRODID:-//eventon.com NONSGML v1.0//EN
BEGIN:VEVENT
UID:69e5e64ce4f0a
DTSTAMP:20260420T093940
DTSTART:20241126T210000Z
DTEND:20241127T020000Z
TZID:Pacific/Midway
LOCATION:
SUMMARY:Projeto Aprender com o Cinema - " Coraline e a porta secreta
DESCRIPTION: No próximo dia 26 de novembro de 2024\,  a Escola Básica Dr. Horácio Bento de Gouveia acolherá mais uma iniciativa do projeto Aprender com o Cinema\,  promovido pela EDUCAmedia. Desta vez\,  o filme selecionado é o aclamado Coraline e a Porta Secreta\,  que será projetado no auditório da escola em[..]
URL:https://hbg.pt/Eventos/projeto-aprender-com-o-cinema-coraline-e-a-porta-secreta/
END:VEVENT
END:VCALENDAR