BEGIN:VCALENDAR
VERSION:2.0
PRODID:-//eventon.com NONSGML v1.0//EN
BEGIN:VEVENT
UID:69e60a4bd0d76
DTSTAMP:20260420T121315
DTSTART:20250311T200000Z
DTEND:20250312T000000Z
TZID:Pacific/Midway
LOCATION:Jardins do Lido 
SUMMARY:Corta-Mato Jovem Escolar
DESCRIPTION: Corta-Mato Jovem Escolar 2025
URL:https://hbg.pt/Eventos/corta-mato-jovem-escolar/
END:VEVENT
END:VCALENDAR