BEGIN:VCALENDAR
VERSION:2.0
PRODID:-//eventon.com NONSGML v1.0//EN
BEGIN:VEVENT
UID:69e609cca1574
DTSTAMP:20260420T121108
DTSTART:20241203T233000Z
DTEND:20241204T010000Z
TZID:Pacific/Midway
LOCATION:Instalações Desportivas HBG 
SUMMARY:Prova dos Nove 8.º Ano
DESCRIPTION: Prova dos Nove 8.º Ano
URL:https://hbg.pt/Eventos/prova-dos-nove-8-ano/
END:VEVENT
END:VCALENDAR