BEGIN:VCALENDAR
VERSION:2.0
PRODID:-//eventon.com NONSGML v1.0//EN
BEGIN:VEVENT
UID:69e609cbb81fc
DTSTAMP:20260420T121107
DTSTART:20241204T191500Z
DTEND:20241207T053000Z
TZID:Pacific/Midway
LOCATION:
SUMMARY:Semana do Desporto Adaptado
DESCRIPTION: Semana do Desporto Adaptado
URL:https://hbg.pt/Eventos/semana-do-desporto-adaptado-3/
END:VEVENT
END:VCALENDAR