BEGIN:VCALENDAR
VERSION:2.0
PRODID:-//eventon.com NONSGML v1.0//EN
BEGIN:VEVENT
UID:69e5e324b63f6
DTSTAMP:20260420T092612
DTSTART:20241211T110000Z
DTEND:20241212T105900Z
TZID:Pacific/Midway
LOCATION:Av.do Mar 
SUMMARY:“Todos presentes. Acidentes nenhuns”
DESCRIPTION: Atividade inserida no projeto de Educação Rod
URL:https://hbg.pt/Eventos/todos-presentes-acidentes-nenhuns/
END:VEVENT
END:VCALENDAR