BEGIN:VCALENDAR
VERSION:2.0
PRODID:-//eventon.com NONSGML v1.0//EN
BEGIN:VEVENT
UID:69e5f6a946a1a
DTSTAMP:20260420T104929
DTSTART:20241203T191500Z
DTEND:20241214T060000Z
TZID:Pacific/Midway
LOCATION:
SUMMARY:Campanha de Natal - Recolha de Alimentos - CVV e Atividades Culturais
DESCRIPTION: Campanha de Natal - Recolha de Alimentos - CVV e Atividades Culturais
URL:https://hbg.pt/Eventos/campanha-de-natal-recolha-de-alimentos-cvv-e-atividades-culturais/
END:VEVENT
END:VCALENDAR