BEGIN:VCALENDAR
VERSION:2.0
PRODID:-//eventon.com NONSGML v1.0//EN
BEGIN:VEVENT
UID:69e5e5eae667e
DTSTAMP:20260420T093802
DTSTART:20241204T200000Z
DTEND:20241204T230000Z
TZID:Pacific/Midway
LOCATION:
SUMMARY:Visita à Casa de Saúde São João De Deus - Participação na Reunião de Alcoologia
DESCRIPTION: Participação das Turmas 9º6 e 9º7.
URL:https://hbg.pt/Eventos/visita-a-casa-de-saude-sao-joao-de-deus-participacao-na-reuniao-de-alcoologia/
END:VEVENT
END:VCALENDAR