BEGIN:VCALENDAR
VERSION:2.0
PRODID:-//eventon.com NONSGML v1.0//EN
BEGIN:VEVENT
UID:69e5fa560bee4
DTSTAMP:20260420T110510
DTSTART:20260325T000000Z
DTEND:20260422T060000Z
TZID:Pacific/Midway
LOCATION:
SUMMARY:Encontro de Voluntariado em Contexto Educativo – Educar para a Cidadania\,  Formar para a Solidariedade.
DESCRIPTION: No âmbito do Prémio “Linka-te aos Outros”\,  promovido pela AMI e atribuído à nossa escola no presente ano letivo\,  o Clube Viver a Vida organiza\,  no dia 21 de abril\,  um encontro de voluntariado intitulado Encontro de Voluntariado em Contexto Educativo – Educar para a Cidadania\,  Formar para a Solidariedade.[..]
URL:https://hbg.pt/Eventos/encontro-de-voluntariado-em-contexto-educativo-educar-para-a-cidadania-formar-para-a-solidariedade/
END:VEVENT
END:VCALENDAR