BEGIN:VCALENDAR
VERSION:2.0
PRODID:-//eventon.com NONSGML v1.0//EN
BEGIN:VEVENT
UID:69e6279f1076d
DTSTAMP:20260420T141823
DTSTART:20260505T233000Z
DTEND:20260506T013000Z
TZID:Pacific/Midway
LOCATION:Poli 3 - Ponto de encontro 
SUMMARY:Finais Torneio de Futsal
DESCRIPTION: Finais Torneio de Futsal
URL:https://hbg.pt/Eventos/finais-torneio-de-futsal-2/
END:VEVENT
END:VCALENDAR