BEGIN:VCALENDAR
VERSION:2.0
PRODID:-//eventon.com NONSGML v1.0//EN
BEGIN:VEVENT
UID:69e608a1a167b
DTSTAMP:20260420T120609
DTSTART:20210519T213000Z
DTEND:20210519T215000Z
TZID:Pacific/Midway
LOCATION:Escola HBG Estrada da liberdade\,  1\,  Funchal
SUMMARY:Dia da Escola Azul - Hastear da bandeira
DESCRIPTION: Dia da Escola Azul - Hastear da bandeira
URL:https://hbg.pt/Eventos/dia-da-escola-azul-hastear-da-bendeira/
END:VEVENT
END:VCALENDAR