BEGIN:VCALENDAR
VERSION:2.0
PRODID:-//eventon.com NONSGML v1.0//EN
BEGIN:VEVENT
UID:69e5e2fe86388
DTSTAMP:20260420T092534
DTSTART:20210513T191500Z
DTEND:20210513T192700Z
TZID:Pacific/Midway
LOCATION:Online 
SUMMARY:Peça de teatro online - Clube de teatro HBG
DESCRIPTION: O grupo de teatro da EB 2/3 Dr. Horácio Bento de Gouveia participa&nbsp; no XXIX Festival de Teatro Carlos Varela\,  com a estreia da peça de teatro Esquadra de Polícia\,  quinta-feira\,  13 de maio\,  às 8:15. Acedam ao link e votem na peça da nossa escola! A edição deste ano[..]
URL:https://hbg.pt/Eventos/peca-de-teatro-online-clube-de-teatro-hbg/
END:VEVENT
END:VCALENDAR