BEGIN:VCALENDAR
VERSION:2.0
PRODID:-//eventon.com NONSGML v1.0//EN
BEGIN:VEVENT
UID:69e5e3284cd8e
DTSTAMP:20260420T092616
DTSTART:20210521T000000Z
DTEND:20210521T000000Z
TZID:Etc/Greenwich
LOCATION:Online 
SUMMARY:Sessão de Mindfulness
DESCRIPTION: Sessão de Mindfulness
URL:https://hbg.pt/Eventos/sessao-de-mindfulness-2/
END:VEVENT
END:VCALENDAR