BEGIN:VCALENDAR
VERSION:2.0
PRODID:-//eventon.com NONSGML v1.0//EN
BEGIN:VEVENT
UID:69e5e361bd3de
DTSTAMP:20260420T092713
DTSTART:20210517T131500Z
DTEND:20210517T140000Z
TZID:Europe/Lisbon
LOCATION:Auditório - HBG 
SUMMARY:Apresentação do Site da Escola
DESCRIPTION: Apresentação do Site da Escola
URL:https://hbg.pt/Eventos/apresentacao-do-site-da-escola/
END:VEVENT
END:VCALENDAR