BEGIN:VCALENDAR
VERSION:2.0
PRODID:-//eventon.com NONSGML v1.0//EN
BEGIN:VEVENT
UID:69e608bab46e1
DTSTAMP:20260420T120634
DTSTART:20210625T213000Z
DTEND:20210625T221500Z
TZID:Pacific/Midway
LOCATION:Auditório - HBG 
SUMMARY:Palestra: “Astronomia” – Universo e Sistema Solar
DESCRIPTION: Proferida por Arlindo Cruz &#8211; Grupo Astronomia
URL:https://hbg.pt/Eventos/palestra-astronomia-universo-e-sistema-solar-arlindo-cruz-grupo-astronomia/
END:VEVENT
END:VCALENDAR