BEGIN:VCALENDAR
VERSION:2.0
PRODID:-//eventon.com NONSGML v1.0//EN
BEGIN:VEVENT
UID:69e5e95f15d18
DTSTAMP:20260420T095247
DTSTART:20210526T210000Z
DTEND:20210526T220000Z
TZID:Pacific/Midway
LOCATION:
SUMMARY:Ação de informação:  ́Eficiência Energética nas Habitações
DESCRIPTION: Objetivo: Apelar para o consumo racional da energia no sector doméstico através de dicas úteis de poupança. Entidade responsável: CMF Orador: Carlos Alves Local: Sala 321
URL:https://hbg.pt/Eventos/acao-de-informacao-eficiencia-energetica-nas-habitacoes/
END:VEVENT
END:VCALENDAR