BEGIN:VCALENDAR
VERSION:2.0
PRODID:-//eventon.com NONSGML v1.0//EN
BEGIN:VEVENT
UID:69e5e2fd7326c
DTSTAMP:20260420T092533
DTSTART:20210617T094500Z
DTEND:20210617T111500Z
TZID:Etc/Greenwich
LOCATION:Auditório - HBG 
SUMMARY:Ação de informação: ´O Cidadão e os Resíduos Sólidos Urbanos`
DESCRIPTION: Objetivo:&nbsp;Promover a reflexão sobre a problemática do excesso produção de resíduos\,  a sua correta separação e encaminhamento&nbsp;&nbsp; Entidade responsável:&nbsp;CMF Orador:&nbsp;Pedro&nbsp;Silva&nbsp;
URL:https://hbg.pt/Eventos/acao-de-informacao-o-cidadao-e-os-residuos-solidos-urbanos/
END:VEVENT
END:VCALENDAR