BEGIN:VCALENDAR
VERSION:2.0
PRODID:-//eventon.com NONSGML v1.0//EN
BEGIN:VEVENT
UID:69e5e30e52875
DTSTAMP:20260420T092550
DTSTART:20210527T204500Z
DTEND:20210527T214500Z
TZID:Pacific/Midway
LOCATION:Auditório - HBG 
SUMMARY:Palestra: "Da Tabela Periódica à mesa" (Manhã)
DESCRIPTION: A importância dos elementos químicos na alimentação`  Entidade responsável: CQM Orador: Prof. José Câmara 
URL:https://hbg.pt/Eventos/palestra-da-tabela-periodica-a-mesa/
END:VEVENT
END:VCALENDAR