BEGIN:VCALENDAR
VERSION:2.0
PRODID:-//eventon.com NONSGML v1.0//EN
BEGIN:VEVENT
UID:69e608a1233d1
DTSTAMP:20260420T120609
DTSTART:20210527T133000Z
DTEND:20210527T143000Z
TZID:Etc/Greenwich
LOCATION:Auditório - HBG 
SUMMARY:Palestra: "Da Tabela Periódica à mesa" (Tarde)
DESCRIPTION: A importância dos elementos químicos na alimentação Entidade responsável:&nbsp;CQM Orador:&nbsp;Prof.&nbsp;José Câmara&nbsp;
URL:https://hbg.pt/Eventos/palestra-da-tabela-periodica-a-mesa-2/
END:VEVENT
END:VCALENDAR