BEGIN:VCALENDAR
VERSION:2.0
PRODID:-//eventon.com NONSGML v1.0//EN
BEGIN:VEVENT
UID:69e609cc57e5b
DTSTAMP:20260420T121108
DTSTART:20210521T110000Z
DTEND:20210531T110000Z
TZID:Pacific/Midway
LOCATION:Online 
SUMMARY:Projeto Criativo Baleão - Votação
DESCRIPTION: No âmbito do Projeto Criativo Baleão (baleia embalão) promovido pelo Museu da Baleia da Madeira\,  a turma 2 do sexto ano de escolaridade da nossa escola apresentou a sua proposta &#8220;Vai na onda do Baleão!&#8220;.  Com o intuito de divulgar o projeto junto da população\,  o Museu da Baleia promove uma votação online[..]
URL:https://hbg.pt/Eventos/projeto-criativo-baleao-votacao/
END:VEVENT
END:VCALENDAR