BEGIN:VCALENDAR
VERSION:2.0
PRODID:-//eventon.com NONSGML v1.0//EN
BEGIN:VEVENT
UID:69e5e2f754415
DTSTAMP:20260420T092527
DTSTART:20210526T110000Z
DTEND:20210604T105900Z
TZID:Pacific/Midway
LOCATION:Escola HBG Estrada da liberdade\,  1\,  Funchal
SUMMARY:Concurso Scratch HBG - Inscrições
DESCRIPTION: Informa-te junto do teu professor de TIC e inscreve-te! Temos vários prémios para oferecer!
URL:https://hbg.pt/Eventos/concurso-scratch-hbg-inscricoes/
END:VEVENT
END:VCALENDAR