BEGIN:VCALENDAR
VERSION:2.0
PRODID:-//eventon.com NONSGML v1.0//EN
BEGIN:VEVENT
UID:69e5e944e39e5
DTSTAMP:20260420T095220
DTSTART:20210603T110000Z
DTEND:20210610T110000Z
TZID:Pacific/Midway
LOCATION:
SUMMARY:O meu Computador do Futuro - Votação
DESCRIPTION: A nossa escola participa na Feira Tecnológica da RAM 2021 com o projeto &#8220;O meu Computador do Futuro&#8221;\,  do aluno Vítor Santos do 6º4. Para ajudar o Vítor a vencer o concurso\,  por favor cliquem aqui e depois marquem like através do &#8220;coração&#8221;.
URL:https://hbg.pt/Eventos/o-meu-computador-do-futuro-votacao/
END:VEVENT
END:VCALENDAR