BEGIN:VCALENDAR
VERSION:2.0
PRODID:-//eventon.com NONSGML v1.0//EN
BEGIN:VEVENT
UID:69e608a36b6da
DTSTAMP:20260420T120611
DTSTART:20210622T110000Z
DTEND:20210704T110000Z
TZID:Pacific/Midway
LOCATION:
SUMMARY:Exposição Regional das Artes
DESCRIPTION: A Exposição Regional de Expressão Plástica decorre anualmente no mês de junho no âmbito da Semana Regional das Artes (SRA). Uma exposição a céu aberto\,  em formato de instalação artística\,  patente temporariamente na Avenida Arriaga. Com o tema\,  &#8220;The Heart of Art&#8221;\,  a nossa escola aceitou o desafio de executar[..]
URL:https://hbg.pt/Eventos/exposicao-regional-das-artes/
END:VEVENT
END:VCALENDAR