BEGIN:VCALENDAR
VERSION:2.0
PRODID:-//eventon.com NONSGML v1.0//EN
BEGIN:VEVENT
UID:69e609bc86967
DTSTAMP:20260420T121052
DTSTART:20210625T004000Z
DTEND:20210625T012000Z
TZID:Pacific/Midway
LOCATION:Auditório - HBG 
SUMMARY:Apresentação de ensaio da peça "Um assalto inusitado"
DESCRIPTION: Auditório da escola.
URL:https://hbg.pt/Eventos/apresentacao-de-ensaio-da-peca-um-assalto-inusitado/
END:VEVENT
END:VCALENDAR