BEGIN:VCALENDAR
VERSION:2.0
PRODID:-//eventon.com NONSGML v1.0//EN
BEGIN:VEVENT
UID:69e6097e7d738
DTSTAMP:20260420T120950
DTSTART:20210628T201500Z
DTEND:20210628T210000Z
TZID:Pacific/Midway
LOCATION:
SUMMARY:Ação de informação: " O Cidadão e os Resíduos Sólidos Urbanos"
DESCRIPTION: Objetivo:Promovera reflexão sobre a problemática do excesso produção de resíduos\,  a sua corretaseparação e encaminhamento. Entidaderesponsável:&nbsp;CMF&nbsp;&nbsp;&nbsp;&nbsp;&nbsp;&nbsp;&nbsp;&nbsp;&nbsp;&nbsp;&nbsp;&nbsp;Orador:Pedro Silva&nbsp; &nbsp; &nbsp;&nbsp;&nbsp; &nbsp; &nbsp; &nbsp; Local: Sala de aula.&nbsp;Destinatários:&nbsp;2ºCiclo
URL:https://hbg.pt/Eventos/acao-de-informacao-o-cidadao-e-os-residuos-solidos-urbanos-4/
END:VEVENT
END:VCALENDAR